BEGIN:VCALENDAR
VERSION:2.0
BEGIN:VEVENT
URL:https://princebandroomfb.oztix.com.au/outlet/event/0e3ddb1b-1958-4e9d-b0c6-bb3dd074ca49
DTSTART:20260822T090000Z
DTEND:20260822T090000Z
SUMMARY:THE YACHTSKI BROTHERS
DESCRIPTION:Event details: https://princebandroomfb.oztix.com.au/outlet/event/0e3ddb1b-1958-4e9d-b0c6-bb3dd074ca49
LOCATION:Prince Bandroom (St Kilda, VIC)
END:VEVENT
END:VCALENDAR